BEGIN:VCALENDAR
VERSION:2.0
PRODID:-//wp-events-plugin.com//7.2.3.1//EN
TZID:Europe/Rome
X-WR-TIMEZONE:Europe/Rome
BEGIN:VEVENT
UID:243@asve-calendario.archiviodistatovenezia.it
DTSTART;TZID=Europe/Rome:20260410T103000
DTEND;TZID=Europe/Rome:20260410T120000
DTSTAMP:20260409T113623Z
URL:https://asve-calendario.archiviodistatovenezia.it/calendario/seminario
 _cafoscari-restauro_sa/
SUMMARY:Seminario_Ca'Foscari-Restauro_SA
DESCRIPTION:
CATEGORIES:Visite guidate gratuite
LOCATION:Sala conferenze\, Campo dei Frari 3002\, Venezia\, Venezia\, 30125
 \, Italia
X-APPLE-STRUCTURED-LOCATION;VALUE=URI;X-ADDRESS=Campo dei Frari 3002\, Vene
 zia\, Venezia\, 30125\, Italia;X-APPLE-RADIUS=100;X-TITLE=Sala conferenze:
 geo:0,0
END:VEVENT
BEGIN:VTIMEZONE
TZID:Europe/Rome
X-LIC-LOCATION:Europe/Rome
BEGIN:DAYLIGHT
DTSTART:20260329T030000
TZOFFSETFROM:+0100
TZOFFSETTO:+0200
TZNAME:CEST
END:DAYLIGHT
END:VTIMEZONE
END:VCALENDAR