BEGIN:VCALENDAR
VERSION:2.0
PRODID:-//wp-events-plugin.com//7.2.3.1//EN
TZID:Europe/Rome
X-WR-TIMEZONE:Europe/Rome
BEGIN:VEVENT
UID:171@asve-calendario.archiviodistatovenezia.it
DTSTART;TZID=Europe/Rome:20260521T090000
DTEND;TZID=Europe/Rome:20260521T173000
DTSTAMP:20260211T111439Z
URL:https://asve-calendario.archiviodistatovenezia.it/calendario/scuola-ap
 d-lezioni-47/
SUMMARY:Scuola APD Lezioni
DESCRIPTION:9.00-10.30 - Records manag. - Del Rio\n10.30-13.30 - Sistemi - 
 Ruspio\n14.30-17.30 - Storia contemp. - Donaglio
CATEGORIES:Scuola APD
LOCATION:Aula Multimediale\, Campo dei Frari\, 3002\, Venezia\, 30125\, Ita
 lia
X-APPLE-STRUCTURED-LOCATION;VALUE=URI;X-ADDRESS=Campo dei Frari\, 3002\, Ve
 nezia\, 30125\, Italia;X-APPLE-RADIUS=100;X-TITLE=Aula Multimediale:geo:0,
 0
END:VEVENT
BEGIN:VTIMEZONE
TZID:Europe/Rome
X-LIC-LOCATION:Europe/Rome
BEGIN:DAYLIGHT
DTSTART:20260329T030000
TZOFFSETFROM:+0100
TZOFFSETTO:+0200
TZNAME:CEST
END:DAYLIGHT
END:VTIMEZONE
END:VCALENDAR