BEGIN:VCALENDAR
VERSION:2.0
PRODID:-//wp-events-plugin.com//7.2.3.1//EN
TZID:Europe/Rome
X-WR-TIMEZONE:Europe/Rome
BEGIN:VEVENT
UID:195@asve-calendario.archiviodistatovenezia.it
DTSTART;TZID=Europe/Rome:20260310T090000
DTEND;TZID=Europe/Rome:20260310T153000
DTSTAMP:20260302T142141Z
URL:https://asve-calendario.archiviodistatovenezia.it/calendario/bacheche/
SUMMARY:Bacheche
DESCRIPTION:Bacheca 1: MDR - visita guidata\nBacheca 2-3: PPDM - Baretta\nB
 acheca 4: Artbonus
CATEGORIES:Bacheche
LOCATION:Ex cucine\, Campo dei Frari\, 3002\, Venezia\, Venezia\, 30125\, I
 talia
X-APPLE-STRUCTURED-LOCATION;VALUE=URI;X-ADDRESS=Campo dei Frari\, 3002\, Ve
 nezia\, Venezia\, 30125\, Italia;X-APPLE-RADIUS=100;X-TITLE=Ex cucine:geo:
 0,0
END:VEVENT
BEGIN:VTIMEZONE
TZID:Europe/Rome
X-LIC-LOCATION:Europe/Rome
BEGIN:STANDARD
DTSTART:20251026T020000
TZOFFSETFROM:+0200
TZOFFSETTO:+0100
TZNAME:CET
END:STANDARD
END:VTIMEZONE
END:VCALENDAR