BEGIN:VCALENDAR
VERSION:2.0
PRODID:-//wp-events-plugin.com//7.2.3.1//EN
TZID:Europe/Rome
X-WR-TIMEZONE:Europe/Rome
BEGIN:VEVENT
UID:137@asve-calendario.archiviodistatovenezia.it
DTSTART;TZID=Europe/Rome:20260623T150000
DTEND;TZID=Europe/Rome:20260623T170000
DTSTAMP:20260128T072654Z
URL:https://asve-calendario.archiviodistatovenezia.it/calendario/anniversa
 rio-500-anni-beretta-1526-2026-8/
SUMMARY:Anniversario 500 anni Beretta (1526-2026)
DESCRIPTION:Visita in esclusiva Chiostro S. Antonio\, Refettorio d'inverno\
 , ex cucine
CATEGORIES:Concessioni
LOCATION:Sede Frari\, Campo dei\, Frari 3002\, Venezia\, 30125\, Italia
X-APPLE-STRUCTURED-LOCATION;VALUE=URI;X-ADDRESS=Campo dei\, Frari 3002\, Ve
 nezia\, 30125\, Italia;X-APPLE-RADIUS=100;X-TITLE=Sede Frari:geo:0,0
END:VEVENT
BEGIN:VTIMEZONE
TZID:Europe/Rome
X-LIC-LOCATION:Europe/Rome
BEGIN:DAYLIGHT
DTSTART:20260329T030000
TZOFFSETFROM:+0100
TZOFFSETTO:+0200
TZNAME:CEST
END:DAYLIGHT
END:VTIMEZONE
END:VCALENDAR